BEGIN:VCALENDAR
VERSION:2.0
PRODID:-//North Fulton Master Gardeners - ECPv6.15.20//NONSGML v1.0//EN
CALSCALE:GREGORIAN
METHOD:PUBLISH
X-WR-CALNAME:North Fulton Master Gardeners
X-ORIGINAL-URL:https://nfmg.net/wp
X-WR-CALDESC:Events for North Fulton Master Gardeners
REFRESH-INTERVAL;VALUE=DURATION:PT1H
X-Robots-Tag:noindex
X-PUBLISHED-TTL:PT1H
BEGIN:VTIMEZONE
TZID:UTC
BEGIN:STANDARD
TZOFFSETFROM:+0000
TZOFFSETTO:+0000
TZNAME:UTC
DTSTART:20230101T000000
END:STANDARD
END:VTIMEZONE
BEGIN:VEVENT
DTSTART;TZID=UTC:20241103T150000
DTEND;TZID=UTC:20241103T160000
DTSTAMP:20260422T225738
CREATED:20240821T014822Z
LAST-MODIFIED:20241101T141143Z
UID:569-1730646000-1730649600@nfmg.net
SUMMARY:Zoom Webinar - Tree Pandemics-The Changing Face Of The Eastern US Forest 
DESCRIPTION:TREE PANDEMICS-THE CHANGING FACE OF THE EASTERN US FOREST \n \nSunday\, 11/3/2024 at 3:00pm EST (Note: on this date\, daylight savings time ends)In this presentation\, North Fulton Master Gardener Carole MacMullan will guide us to step back in time and compare the Eastern US of 1900 to the present and ever-changing forest of the 21 st century. Unfortunately\, our forests over the past 100 years have been severely impacted by the introduction of plant diseases brought into the US as a result of the rapid growth of global trade. Some of these plant diseases were introduced by diseased plant materials and other by insects that hitch-hiked on international transported goods. Some of the diseases that will be discussed are: Chestnut Blight\, Dutch Elm Disease\, Pine Beetle Disease\, Emerald Ash Borer\, Hemlock Woolly adelgid and Dogwood anthracnose.
URL:https://nfmg.net/wp/event/zoom-webina-tree-pandemics-the-changing-face-of-the-eastern-us-forest/
LOCATION:Zoom
CATEGORIES:Classes
END:VEVENT
BEGIN:VEVENT
DTSTART;TZID=UTC:20241109T083000
DTEND;TZID=UTC:20241109T123000
DTSTAMP:20260422T225738
CREATED:20240818T203530Z
LAST-MODIFIED:20240818T203926Z
UID:471-1731141000-1731155400@nfmg.net
SUMMARY:Alpharetta Farmer's Market - Ask A Master Gardener Booth
DESCRIPTION:Have gardening questions you want to ask? Have a plant you need to identify? Come join the North Fulton Master Gardeners and bring those questions along.\n\nWhen: Sat\, November 9\, 8:30am – 12:30pm\nWhere: Alpharetta Town Green/City Center (map)\n\nDescription: Alpharetta Farmers’ Market Ask A Master Gardener Booth \nOn North and South Broad Streets. Parking is available on the streets or the parking garage nearby. You can get further details by going to Alpharettafarmersmarket.com.
URL:https://nfmg.net/wp/event/alpharetta-farmers-market-ask-a-master-gardener-booth-5/
LOCATION:Alpharetta Town Green/City Center\, 2001 Commerce St\, Alpharetta\, GA\, 30009
END:VEVENT
BEGIN:VEVENT
DTSTART;TZID=UTC:20241123T083000
DTEND;TZID=UTC:20241123T123000
DTSTAMP:20260422T225738
CREATED:20240818T203712Z
LAST-MODIFIED:20240818T204019Z
UID:473-1732350600-1732365000@nfmg.net
SUMMARY:Alpharetta Farmer's Market - Ask A Master Gardener Booth
DESCRIPTION:Have gardening questions you want to ask? Have a plant you need to identify? Come join the North Fulton Master Gardeners and bring those questions along.\n\nWhen: Sat\, November 23\, 8:30am – 12:30pm\nWhere: Alpharetta Town Green/City Center (map)\n\nDescription: Alpharetta Farmers’ Market Ask A Master Gardener Booth \nOn North and South Broad Streets. Parking is available on the streets or the parking garage nearby. You can get further details by going to Alpharettafarmersmarket.com.
URL:https://nfmg.net/wp/event/473/
LOCATION:Alpharetta Town Green/City Center\, 2001 Commerce St\, Alpharetta\, GA\, 30009
END:VEVENT
BEGIN:VEVENT
DTSTART;TZID=UTC:20250412T090000
DTEND;TZID=UTC:20250412T150000
DTSTAMP:20260422T225738
CREATED:20240818T210909Z
LAST-MODIFIED:20250226T230019Z
UID:493-1744448400-1744470000@nfmg.net
SUMMARY:Garden Faire 2025
DESCRIPTION: 
URL:https://nfmg.net/wp/event/garden-faire-2025/
LOCATION:The Grove at Wills Park\, 175 Roswell St.\, Alpharetta\, GA\, 30009
END:VEVENT
BEGIN:VEVENT
DTSTART;TZID=UTC:20250607T110000
DTEND;TZID=UTC:20250607T150000
DTSTAMP:20260422T225738
CREATED:20241029T205447Z
LAST-MODIFIED:20241029T205624Z
UID:736-1749294000-1749308400@nfmg.net
SUMMARY:2025 Garden Tour “Petals and Pathways”
DESCRIPTION:The North Fulton Master Gardeners (NFMG) hosted our inaugural Celebration Garden Tour on June 3\, 2023\, “Every Step\, A New Delight”. \nWe are excited to announce the 2025 version of our Celebration Garden Tour on June 7\, 2025 “Petals and Pathways”. Mark your calendars for this wonderful event. Details will be available soon.
URL:https://nfmg.net/wp/event/2025-garden-tour-petals-and-pathways/
LOCATION:GA
END:VEVENT
BEGIN:VEVENT
DTSTART;TZID=UTC:20260213T110000
DTEND;TZID=UTC:20260213T123000
DTSTAMP:20260422T225738
CREATED:20260208T200339Z
LAST-MODIFIED:20260208T200339Z
UID:1262-1770980400-1770985800@nfmg.net
SUMMARY:Seed Swap 2026
DESCRIPTION:For details click here. \n \n 
URL:https://nfmg.net/wp/event/seed-swap-2026/
LOCATION:Roswell Library\, 115 Norcross St\, Roswell\, GA\, 30075
END:VEVENT
BEGIN:VEVENT
DTSTART;TZID=UTC:20260411T090000
DTEND;TZID=UTC:20260411T160000
DTSTAMP:20260422T225738
CREATED:20260117T210148Z
LAST-MODIFIED:20260117T210148Z
UID:1202-1775898000-1775923200@nfmg.net
SUMMARY:Garden Faire 2026
DESCRIPTION:
URL:https://nfmg.net/wp/event/garden-faire-2026/
LOCATION:The Grove at Wills Park\, 175 Roswell St.\, Alpharetta\, GA\, 30009
END:VEVENT
BEGIN:VEVENT
DTSTART;TZID=UTC:20260425T083000
DTEND;TZID=UTC:20260425T120000
DTSTAMP:20260422T225738
CREATED:20260208T200734Z
LAST-MODIFIED:20260208T200734Z
UID:1265-1777105800-1777118400@nfmg.net
SUMMARY:Little Diggers - April 2026
DESCRIPTION:Join us at the Sandy Springs Farmers Market for a fun children’s gardening activity. \n 
URL:https://nfmg.net/wp/event/little-diggers-april-2026/
LOCATION:Sandy Springs Farmers Market\, 1 Galambos Way\, Sandy Springs\, GA\, 30328
CATEGORIES:Classes
END:VEVENT
BEGIN:VEVENT
DTSTART;TZID=UTC:20260530T083000
DTEND;TZID=UTC:20260530T120000
DTSTAMP:20260422T225738
CREATED:20260208T200909Z
LAST-MODIFIED:20260208T200909Z
UID:1268-1780129800-1780142400@nfmg.net
SUMMARY:Little Diggers - May 2026
DESCRIPTION:Join us at the Sandy Springs Farmers Market this Saturday for a fun children’s activity.
URL:https://nfmg.net/wp/event/little-diggers-may-2026/
LOCATION:Sandy Springs Farmers Market\, 1 Galambos Way\, Sandy Springs\, GA\, 30328
END:VEVENT
BEGIN:VEVENT
DTSTART;TZID=UTC:20260620T083000
DTEND;TZID=UTC:20260620T120000
DTSTAMP:20260422T225738
CREATED:20260208T201021Z
LAST-MODIFIED:20260208T201021Z
UID:1270-1781944200-1781956800@nfmg.net
SUMMARY:Little Diggers - June 2026
DESCRIPTION:Join us at the Sandy Springs Farmers Market this Saturday for a fun children’s activity.
URL:https://nfmg.net/wp/event/little-diggers-june-2026/
LOCATION:Sandy Springs Farmers Market\, 1 Galambos Way\, Sandy Springs\, GA\, 30328
END:VEVENT
BEGIN:VEVENT
DTSTART;TZID=UTC:20260718T080000
DTEND;TZID=UTC:20260718T170000
DTSTAMP:20260422T225738
CREATED:20260208T201141Z
LAST-MODIFIED:20260208T201141Z
UID:1272-1784361600-1784394000@nfmg.net
SUMMARY:Little Diggers - July 2026
DESCRIPTION:Join us at the Sandy Springs Farmers Market this Saturday for a fun children’s activity.
URL:https://nfmg.net/wp/event/little-diggers-july-2026/
LOCATION:Sandy Springs Farmers Market\, 1 Galambos Way\, Sandy Springs\, GA\, 30328
END:VEVENT
BEGIN:VEVENT
DTSTART;TZID=UTC:20260822T083000
DTEND;TZID=UTC:20260822T120000
DTSTAMP:20260422T225738
CREATED:20260208T201419Z
LAST-MODIFIED:20260208T201419Z
UID:1274-1787387400-1787400000@nfmg.net
SUMMARY:Little Diggers - August 2026
DESCRIPTION:Join us at the Sandy Springs Farmers Market this Saturday for a fun children’s activity.
URL:https://nfmg.net/wp/event/little-diggers-august-2026/
LOCATION:Sandy Springs Farmers Market\, 1 Galambos Way\, Sandy Springs\, GA\, 30328
END:VEVENT
BEGIN:VEVENT
DTSTART;TZID=UTC:20260919T083000
DTEND;TZID=UTC:20260919T120000
DTSTAMP:20260422T225738
CREATED:20260208T201541Z
LAST-MODIFIED:20260208T201541Z
UID:1276-1789806600-1789819200@nfmg.net
SUMMARY:Little Diggers - September 2026
DESCRIPTION:Join us at the Sandy Springs Farmers Market this Saturday for a fun children’s activity.
URL:https://nfmg.net/wp/event/little-diggers-september-2026/
LOCATION:Sandy Springs Farmers Market\, 1 Galambos Way\, Sandy Springs\, GA\, 30328
CATEGORIES:Classes
END:VEVENT
BEGIN:VEVENT
DTSTART;TZID=UTC:20261017T083000
DTEND;TZID=UTC:20261017T120000
DTSTAMP:20260422T225738
CREATED:20260208T201657Z
LAST-MODIFIED:20260208T201657Z
UID:1278-1792225800-1792238400@nfmg.net
SUMMARY:Little Diggers - October 2026
DESCRIPTION:Join us at the Sandy Springs Farmers Market this Saturday for a fun children’s activity.
URL:https://nfmg.net/wp/event/little-diggers-october-2026/
LOCATION:Sandy Springs Farmers Market\, 1 Galambos Way\, Sandy Springs\, GA\, 30328
CATEGORIES:Classes
END:VEVENT
END:VCALENDAR