BEGIN:VCALENDAR
VERSION:2.0
PRODID:-//North Fulton Master Gardeners - ECPv6.15.20//NONSGML v1.0//EN
CALSCALE:GREGORIAN
METHOD:PUBLISH
X-WR-CALNAME:North Fulton Master Gardeners
X-ORIGINAL-URL:https://nfmg.net/wp
X-WR-CALDESC:Events for North Fulton Master Gardeners
REFRESH-INTERVAL;VALUE=DURATION:PT1H
X-Robots-Tag:noindex
X-PUBLISHED-TTL:PT1H
BEGIN:VTIMEZONE
TZID:UTC
BEGIN:STANDARD
TZOFFSETFROM:+0000
TZOFFSETTO:+0000
TZNAME:UTC
DTSTART:20230101T000000
END:STANDARD
END:VTIMEZONE
BEGIN:VEVENT
DTSTART;TZID=UTC:20240824T083000
DTEND;TZID=UTC:20240824T130000
DTSTAMP:20260423T091801
CREATED:20240818T201907Z
LAST-MODIFIED:20240818T202023Z
UID:459-1724488200-1724504400@nfmg.net
SUMMARY:The Great Southeast Pollinator Census
DESCRIPTION:The Great Southeast Pollinator Census is a citizen science project created by the University of Georgia. This project is designed for everyone to participate and make a difference for pollinator conservation!  Join the North Fulton Master Gardeners in counting pollinators at the following locations on August 24\, 2024. Counting materials and instructions will be provided and we will upload your data for you. Bring the family\, fun for all ages! \nTimes vary by location:\n\nCottage Garden at Lost Corner Preserve 7300 Brandon Mill Road\, Sandy Springs\, Ga. 30328  (9-11am)\nSandy Springs Farmers Market  City Springs\, 1 Galambos Way\, Sandy Springs\, GA 30328 (8:30-12)\nSummerour House Gardens at Autrey Mill Nature Preserve 9770 Autrey Mill Road\, Johns Creek\, GA  (10am-Noon)\nPollinator Garden/Wildlife Habitat at CRNRA’s Island Ford Visitor Center8850 Roberts Dr\, Sandy Springs (9:00am-Noon)\nFernwood Forest at Archibald Smith Plantation House 935 Alpharetta Street\, Roswell\, GA (9:30am-1PM)\n\n\n Click to find out more about Great Southeast Pollinator Census.
URL:https://nfmg.net/wp/event/the-great-southeast-pollinator-census/
LOCATION:GA
ATTACH;FMTTYPE=image/jpeg:https://nfmg.net/wp/wp-content/uploads/2024/08/GSePC-Locations-2024.jpg
END:VEVENT
BEGIN:VEVENT
DTSTART;TZID=UTC:20240824T083000
DTEND;TZID=UTC:20240824T123000
DTSTAMP:20260423T091801
CREATED:20240818T210129Z
LAST-MODIFIED:20240818T210129Z
UID:488-1724488200-1724502600@nfmg.net
SUMMARY:Alpharetta Farmer's Market - Ask A Master Gardener Booth
DESCRIPTION:Have gardening questions you want to ask? Have a plant you need to identify? Come join the North Fulton Master Gardeners and bring those questions along.\n\nWhen: Sat\, September 24\, 8:30am – 12:30pm\nWhere: Alpharetta Town Green/City Center (map)\n\nDescription: Alpharetta Farmers’ Market Ask A Master Gardener Booth \nOn North and South Broad Streets. Parking is available on the streets or the parking garage nearby. You can get further details by going to Alpharettafarmersmarket.com.
URL:https://nfmg.net/wp/event/alpharetta-farmers-market-ask-a-master-gardener-booth-6/
LOCATION:Alpharetta Town Green/City Center\, 2001 Commerce St\, Alpharetta\, GA\, 30009
END:VEVENT
END:VCALENDAR