BEGIN:VCALENDAR
VERSION:2.0
PRODID:-//North Fulton Master Gardeners - ECPv6.15.20//NONSGML v1.0//EN
CALSCALE:GREGORIAN
METHOD:PUBLISH
X-ORIGINAL-URL:https://nfmg.net/wp
X-WR-CALDESC:Events for North Fulton Master Gardeners
REFRESH-INTERVAL;VALUE=DURATION:PT1H
X-Robots-Tag:noindex
X-PUBLISHED-TTL:PT1H
BEGIN:VTIMEZONE
TZID:UTC
BEGIN:STANDARD
TZOFFSETFROM:+0000
TZOFFSETTO:+0000
TZNAME:UTC
DTSTART:20230101T000000
END:STANDARD
END:VTIMEZONE
BEGIN:VEVENT
DTSTART;TZID=UTC:20241123T083000
DTEND;TZID=UTC:20241123T123000
DTSTAMP:20260422T225521
CREATED:20240818T203712Z
LAST-MODIFIED:20240818T204019Z
UID:473-1732350600-1732365000@nfmg.net
SUMMARY:Alpharetta Farmer's Market - Ask A Master Gardener Booth
DESCRIPTION:Have gardening questions you want to ask? Have a plant you need to identify? Come join the North Fulton Master Gardeners and bring those questions along.\n\nWhen: Sat\, November 23\, 8:30am – 12:30pm\nWhere: Alpharetta Town Green/City Center (map)\n\nDescription: Alpharetta Farmers’ Market Ask A Master Gardener Booth \nOn North and South Broad Streets. Parking is available on the streets or the parking garage nearby. You can get further details by going to Alpharettafarmersmarket.com.
URL:https://nfmg.net/wp/event/473/
LOCATION:Alpharetta Town Green/City Center\, 2001 Commerce St\, Alpharetta\, GA\, 30009
END:VEVENT
END:VCALENDAR