BEGIN:VCALENDAR
VERSION:2.0
PRODID:-//North Fulton Master Gardeners - ECPv6.15.20//NONSGML v1.0//EN
CALSCALE:GREGORIAN
METHOD:PUBLISH
X-ORIGINAL-URL:https://nfmg.net/wp
X-WR-CALDESC:Events for North Fulton Master Gardeners
REFRESH-INTERVAL;VALUE=DURATION:PT1H
X-Robots-Tag:noindex
X-PUBLISHED-TTL:PT1H
BEGIN:VTIMEZONE
TZID:UTC
BEGIN:STANDARD
TZOFFSETFROM:+0000
TZOFFSETTO:+0000
TZNAME:UTC
DTSTART:20230101T000000
END:STANDARD
END:VTIMEZONE
BEGIN:VEVENT
DTSTART;TZID=UTC:20241020T150000
DTEND;TZID=UTC:20241020T160000
DTSTAMP:20260423T001405
CREATED:20240821T014410Z
LAST-MODIFIED:20240821T014410Z
UID:567-1729436400-1729440000@nfmg.net
SUMMARY:Zoom Webinar - CREATING A SUCCESSFUL CUTTING GARDEN
DESCRIPTION:CREATING A SUCCESSFUL CUTTING GARDEN\n \nSunday\, 10/20/2024 at 3:00pm EDT\n\n \n\n\nWould you enjoy growing and gathering  flowers from your garden to bring inside or to share with others?  Ahh\, the beauty of bringing the outside in!  You can successfully grow a designated cutting garden of your favorite flowers and foliage for bouquets by following a few simple requirements.  Join North Fulton Master Gardener Pat Camp as you discover the basics of growing\, harvesting  and designing with the bounty from your very own cutting garden.  \n\nZoom and Facebook – link coming soon
URL:https://nfmg.net/wp/event/zoom-webinar-creating-a-successful-cutting-garden/
LOCATION:Zoom
CATEGORIES:Classes
END:VEVENT
END:VCALENDAR