BEGIN:VCALENDAR
VERSION:2.0
PRODID:-//North Fulton Master Gardeners - ECPv6.15.20//NONSGML v1.0//EN
CALSCALE:GREGORIAN
METHOD:PUBLISH
X-ORIGINAL-URL:https://nfmg.net/wp
X-WR-CALDESC:Events for North Fulton Master Gardeners
REFRESH-INTERVAL;VALUE=DURATION:PT1H
X-Robots-Tag:noindex
X-PUBLISHED-TTL:PT1H
BEGIN:VTIMEZONE
TZID:UTC
BEGIN:STANDARD
TZOFFSETFROM:+0000
TZOFFSETTO:+0000
TZNAME:UTC
DTSTART:20230101T000000
END:STANDARD
END:VTIMEZONE
BEGIN:VEVENT
DTSTART;TZID=UTC:20241008T183000
DTEND;TZID=UTC:20241008T203000
DTSTAMP:20260423T001405
CREATED:20240818T161628Z
LAST-MODIFIED:20240818T161628Z
UID:451-1728412200-1728419400@nfmg.net
SUMMARY:Plant Milton Class October 8
DESCRIPTION:In collaboration with the City of Milton\, the North Fulton Master Gardeners are offering a series of gardening classes for the beginning gardener\, to be held on Tuesday evenings at the Milton City Park and Preserve located at 1785 Dinsmore Road. \nThe doors open at 6:30; we entertain questions and garden topics until 7:00pm\, when the classes start.  Each session consists of two topics and concludes by 8:30 pm.  We hope you join us! \nKeeping the tree in the ground\nCity of Milton Arborist\, Sandra Dewitt\, will talk about species choice\, placement of trees in your yard\, and general tree maintenance.  If you want trees in your garden and are unsure of what to plant\, this is the talk for you.  She will also be available to discuss any problem issues you may have with trees in your garden. \nWild about Wildflowers\n\n\n\nJudy Peacock\, a Master Gardener\, will join another Master Gardener and Milton resident Carole MacMullan to talk about wildflowers. March is one of the best months to enjoy spring wildflowers by taking a hike in the Georgia woods.  As soon as the air temperatures increase and soil temperatures warm up\, the spring wildflowers emerge from the ground and burst into color.  The spring wildflowers take advantage of the available sunlight before the trees leaf out to complete their life cycle\, flower and create seeds to ensure their survival for the next year.  This presentation will focus the amazing array of spring wildflowers that bloom every March through April on the Shirley Miller Wildflower Walk near Lafayette\, Georgia.
URL:https://nfmg.net/wp/event/plant-milton-class-october-8/
LOCATION:Milton City Park and Preserve\, 1785 Dinsmore Road\, Milton\, GA
CATEGORIES:Classes
END:VEVENT
END:VCALENDAR