BEGIN:VCALENDAR
VERSION:2.0
PRODID:-//North Fulton Master Gardeners - ECPv6.15.20//NONSGML v1.0//EN
CALSCALE:GREGORIAN
METHOD:PUBLISH
X-ORIGINAL-URL:https://nfmg.net/wp
X-WR-CALDESC:Events for North Fulton Master Gardeners
REFRESH-INTERVAL;VALUE=DURATION:PT1H
X-Robots-Tag:noindex
X-PUBLISHED-TTL:PT1H
BEGIN:VTIMEZONE
TZID:UTC
BEGIN:STANDARD
TZOFFSETFROM:+0000
TZOFFSETTO:+0000
TZNAME:UTC
DTSTART:20230101T000000
END:STANDARD
END:VTIMEZONE
BEGIN:VEVENT
DTSTART;TZID=UTC:20241001T183000
DTEND;TZID=UTC:20241001T190000
DTSTAMP:20260423T002806
CREATED:20240818T161359Z
LAST-MODIFIED:20240818T161359Z
UID:447-1727807400-1727809200@nfmg.net
SUMMARY:Plant Milton Class October 1
DESCRIPTION:In collaboration with the City of Milton\, the North Fulton Master Gardeners are offering a series of gardening classes for the beginning gardener\, to be held on Tuesday evenings at the Milton City Park and Preserve located at 1785 Dinsmore Road. \nThe doors open at 6:30; we entertain questions and garden topics until 7:00pm\, when the classes start.  Each session consists of two topics and concludes by 8:30 pm.  We hope you join us! \nFabulous Fall Fairy Gardens\n\n\n\nThe mythical world of fairies is found throughout folklore. A fairy garden is itself a story-telling scene that can include small plants\, tiny structures\, miniature furniture\, rocks\, fairies and gnomes. It can be in a container or in a small\, cultivated space in your yard.  Use your imagination and creativity to create your own fairy garden. \n\n\nMarty Thomas has been a master gardener since 2018. A former elementary school teacher who has also taught children’s art classes including fairy garden camps. Marty is a board member of the Johns Creek Beautification Committee. She leads a weekly Bible study discussion group at her church and is a substitute teacher in Fulton Co. \nPruning here and now\n\n\nPruning Guru\, Rick Smith\, will discuss the critical factors in pruning and fertilizing your shrubs.  Rick will also address the benefits and necessity of selecting the proper time of year to prune your plants\, shrubs\, and trees. \n\n\n\nRick was featured on PBS (Growing a Greener World).  He was also a contributor to WSB 95.5 Ashley Frasca – Green and Growing.
URL:https://nfmg.net/wp/event/plant-milton-class-october-1/
LOCATION:Milton City Park and Preserve\, 1785 Dinsmore Road\, Milton\, GA
CATEGORIES:Classes
END:VEVENT
END:VCALENDAR