BEGIN:VCALENDAR
VERSION:2.0
PRODID:-//North Fulton Master Gardeners - ECPv6.15.20//NONSGML v1.0//EN
CALSCALE:GREGORIAN
METHOD:PUBLISH
X-ORIGINAL-URL:https://nfmg.net/wp
X-WR-CALDESC:Events for North Fulton Master Gardeners
REFRESH-INTERVAL;VALUE=DURATION:PT1H
X-Robots-Tag:noindex
X-PUBLISHED-TTL:PT1H
BEGIN:VTIMEZONE
TZID:UTC
BEGIN:STANDARD
TZOFFSETFROM:+0000
TZOFFSETTO:+0000
TZNAME:UTC
DTSTART:20230101T000000
END:STANDARD
END:VTIMEZONE
BEGIN:VEVENT
DTSTART;TZID=UTC:20240921T083000
DTEND;TZID=UTC:20240921T120000
DTSTAMP:20260423T014756
CREATED:20240818T204923Z
LAST-MODIFIED:20240818T204923Z
UID:476-1726907400-1726920000@nfmg.net
SUMMARY:Sandy Springs Farmer's Market - Little Diggers
DESCRIPTION:This weekend\, participants will plant a lettuce bowl to take home and nurture. Lettuce grows quickly\, is shallow rooted so does not need a deep container and is great in cooler weather. And your child may even be willing to eat a salad from lettuce they grow! Little Diggers is for kids with accompanying adult. \n \nLittle Diggers is a FREE Family Gardening Series about the fascinating world of horticulture and gardening\, presented in partnership with the North Fulton Master Gardeners and in cooperation with UGA Extension in Fulton County.
URL:https://nfmg.net/wp/event/sandy-springs-farmers-market-little-diggers/
LOCATION:City Springs\, 1 Galambos Way\, Sandy Springs\, GA\, 30328
END:VEVENT
END:VCALENDAR